BEGIN:VCALENDAR
VERSION:2.0
PRODID:-//ShenDo Shiatsu West - ECPv6.15.20//NONSGML v1.0//EN
CALSCALE:GREGORIAN
METHOD:PUBLISH
X-WR-CALNAME:ShenDo Shiatsu West
X-ORIGINAL-URL:https://shendo-shiatsu-west.de
X-WR-CALDESC:Veranstaltungen für ShenDo Shiatsu West
REFRESH-INTERVAL;VALUE=DURATION:PT1H
X-Robots-Tag:noindex
X-PUBLISHED-TTL:PT1H
BEGIN:VTIMEZONE
TZID:Europe/Berlin
BEGIN:DAYLIGHT
TZOFFSETFROM:+0100
TZOFFSETTO:+0200
TZNAME:CEST
DTSTART:20240331T010000
END:DAYLIGHT
BEGIN:STANDARD
TZOFFSETFROM:+0200
TZOFFSETTO:+0100
TZNAME:CET
DTSTART:20241027T010000
END:STANDARD
BEGIN:DAYLIGHT
TZOFFSETFROM:+0100
TZOFFSETTO:+0200
TZNAME:CEST
DTSTART:20250330T010000
END:DAYLIGHT
BEGIN:STANDARD
TZOFFSETFROM:+0200
TZOFFSETTO:+0100
TZNAME:CET
DTSTART:20251026T010000
END:STANDARD
BEGIN:DAYLIGHT
TZOFFSETFROM:+0100
TZOFFSETTO:+0200
TZNAME:CEST
DTSTART:20260329T010000
END:DAYLIGHT
BEGIN:STANDARD
TZOFFSETFROM:+0200
TZOFFSETTO:+0100
TZNAME:CET
DTSTART:20261025T010000
END:STANDARD
END:VTIMEZONE
BEGIN:VEVENT
DTSTART;VALUE=DATE:20250222
DTEND;VALUE=DATE:20250224
DTSTAMP:20260421T102850
CREATED:20240329T184200Z
LAST-MODIFIED:20241223T093055Z
UID:2518-1740182400-1740355199@shendo-shiatsu-west.de
SUMMARY:Basiskurs Teil 2 in Düsseldorf
DESCRIPTION:22.-23.02.2025 \n\n \nSa. 9.30 – 18 Uhr\nSo. 9.30 – 17 Uhr \n\n \nPreis: 250.- € \nDies ist das zweite Wochenende des Basiskurses und kann von Teilnehmern des 1. Teils gebucht werden. \nmit Sandra Bostoen \n\n \n\n\nDer Basiskurs (ca. 16 Std.) ist eine Einführung in ShenDo Shiatsu. Im Mittelpunkt steht die „Freude an der Berührung“. Du wirst mit den Grundtechniken von ShenDo Shiatsu vertraut gemacht und lernst deinen Körper ökonomisch einzusetzen. In einer Yin-Yang ausgleichenden ShenDo Shiatsu Anwendung für die Körpervorderseite erlebst du die wohltuende und entspannende Qualität der Berührung im ShenDo Shiatsu. Unterstützt wird unser Unterricht durch tägliche Atem- und Bewegungsübungen aus Do In und Qi Gong.\nBereits nach diesem Kurs kannst du ShenDo Shiatsu im Familien- und Freundeskreis als wohltuende Form der Massage anwenden. Falls du in einer Praxis an anderen Menschen arbeitest\, kannst du jetzt schon das Gelernte einsetzen. \nFür den Basiskurs sind keine Vorkenntnisse erforderlich. \nAusbildungsinhalte: \n\nShenDo Shiatsu Ganzkörpermassage\nBewegung aus der Körpermitte (Hara)\nShiatsupositionen wie Seiza\, Torbogenstellung\nMutter- und Sohnhand\nEntspannte Berührung ohne Anstrengung\nWichtige Energiepunkte und ihre vorbeugende Bedeutung\nBasistheorie: das Verständnis der Qi-Energie\, der Energie-Leitbahnen und ihrer Punkte\nTaoistische Atem- und Bewegungsübungen\n\n  \n \nSandra Bostoen \n 
URL:https://shendo-shiatsu-west.de/shiatsuseminar/basiskurs2-duesseldorf-0125/
LOCATION:Düsseldorf\, Schirmerstr. 61\, Düsseldorf\, 40211\, Deutschland
CATEGORIES:Seminare,ShenDo Shiatsu Ausbildung,Stufe I Basis- & Aufbaukurse
ATTACH;FMTTYPE=image/jpeg:https://shendo-shiatsu-west.de/wp-content/uploads/Basiskurs-2-300x225-1.jpg
ORGANIZER;CN="ShenDo Shiatsu West":MAILTO:shendo-west@shendo.de
GEO:51.23079;6.79515
X-APPLE-STRUCTURED-LOCATION;VALUE=URI;X-ADDRESS=Düsseldorf Schirmerstr. 61 Düsseldorf 40211 Deutschland;X-APPLE-RADIUS=500;X-TITLE=Schirmerstr. 61:geo:6.79515,51.23079
END:VEVENT
END:VCALENDAR