BEGIN:VCALENDAR
VERSION:2.0
PRODID:-//ShenDo Shiatsu West - ECPv6.15.20//NONSGML v1.0//EN
CALSCALE:GREGORIAN
METHOD:PUBLISH
X-WR-CALNAME:ShenDo Shiatsu West
X-ORIGINAL-URL:https://shendo-shiatsu-west.de
X-WR-CALDESC:Veranstaltungen für ShenDo Shiatsu West
REFRESH-INTERVAL;VALUE=DURATION:PT1H
X-Robots-Tag:noindex
X-PUBLISHED-TTL:PT1H
BEGIN:VTIMEZONE
TZID:Europe/Berlin
BEGIN:DAYLIGHT
TZOFFSETFROM:+0100
TZOFFSETTO:+0200
TZNAME:CEST
DTSTART:20250330T010000
END:DAYLIGHT
BEGIN:STANDARD
TZOFFSETFROM:+0200
TZOFFSETTO:+0100
TZNAME:CET
DTSTART:20251026T010000
END:STANDARD
BEGIN:DAYLIGHT
TZOFFSETFROM:+0100
TZOFFSETTO:+0200
TZNAME:CEST
DTSTART:20260329T010000
END:DAYLIGHT
BEGIN:STANDARD
TZOFFSETFROM:+0200
TZOFFSETTO:+0100
TZNAME:CET
DTSTART:20261025T010000
END:STANDARD
BEGIN:DAYLIGHT
TZOFFSETFROM:+0100
TZOFFSETTO:+0200
TZNAME:CEST
DTSTART:20270328T010000
END:DAYLIGHT
BEGIN:STANDARD
TZOFFSETFROM:+0200
TZOFFSETTO:+0100
TZNAME:CET
DTSTART:20271031T010000
END:STANDARD
END:VTIMEZONE
BEGIN:VEVENT
DTSTART;VALUE=DATE:20261120
DTEND;VALUE=DATE:20261123
DTSTAMP:20260421T104019
CREATED:20251023T083107Z
LAST-MODIFIED:20260315T184327Z
UID:3171-1795132800-1795391999@shendo-shiatsu-west.de
SUMMARY:Baucharbeit und die Bedeutung des Hara im Shiatsu / in Köln-Dellbrück
DESCRIPTION:20.-22.11.2026 \nDer Kurs ist ausgebucht. Ein Eintrag auf die Warteliste ist möglich. \n\n \nFr. 14 – 18 Uhr \nSa. 9.30 – 17.30 Uhr \nSo. 9.30 – 16 Uhr  \n\n \nPreis: 370.- €\n(30 € Ermäßigung für Mitglieder des Verbands für ShenDo Shiatsu in Deutschland)  \nDas Seminar ist  offen für ShenDo Shiatsu-Praktiker und Shiatsu-Therapeuten. \nmit Mike Mandl \n\n \n\n  \nDas Hara steht für unsere Mitte\, und das Arbeiten aus dieser Mitte heraus ist im Shiatsu von größter Bedeutung. Aber wie viel verstehen und fühlen wir wirklich von unserem Hara? Wie viel direkte Baucharbeit haben wir in unser Shiatsu integriert\, wenn unser physisches und energetisches Zentrum doch von so großer Bedeutung ist? \nTatsache ist\, dass sowohl die Baucharbeit als auch das Hara an sich in Shiatsu nicht die Aufmerksamkeit bekommen\, die sie ob ihrer tragenden Rolle verdient hätten. Daher wollen wir uns in diesem Kurs genau diesen beiden Themen konzentriert widmen\, sie erforschen\, sie lebendig machen\, sie integrieren. \nEinen Schwerpunkt bildet dabei die Rolle des Hara für uns Praktiker:innen. Wir werden mit gezielten Übungen mehr Bewusstsein in diese Körperzone bringen. Wir werden lernen\, welche energetischen Dynamiken für den Aufbau eines stabilen und kraftvollen Hara entscheidend sind. Wir werden Arme und Beine mit der Mitte verbinden und lernen\, uns aus dieser heraus als Einheit zu bewegen. Wir werden uns im wahrsten Sinne des Wortes zentrieren. \nZum anderen werden wir uns mit der direkten Behandlung des Haras beschäftigen\, verschiedene Zugänge\, Techniken und deren Einsatzbereich kennen lernen. Das Erfassen und Verstehen der wichtigsten Bauchorgane führt uns auch zu einer einfachen und leicht umsetzbaren Form der Diagnose. Denn: Alles beginnt in der Mitte. Alles kehrt zur Mitte zurück. \nSchwerpunkte: \n–       Die energetische Dynamik des Hara verstehen \n–       Was bedeutet es\, das Dan Tien zu kultivieren und zu stabilisieren? \n–       Das Hara in der Shiatsu Arbeit mit den Händen und den Beinen verbinden – Bewegung aus der Mitte \n–       Ampuku: Die Kunst der Baucharbeit \n–       Hara-Diagnose \n  \nMike Mandl \n  \n 
URL:https://shendo-shiatsu-west.de/shiatsuseminar/baucharbeit-und-die-bedeutung-des-hara-im-shiatsu-in-koeln-dellbrueck/
LOCATION:Köln-Dellbrück\, Im Eichenforst 39\, Köln-Dellbrück\, 51069\, Deutschland
CATEGORIES:Weiterbildungen
ATTACH;FMTTYPE=image/jpeg:https://shendo-shiatsu-west.de/wp-content/uploads/Baucharbeit-300x.jpg
ORGANIZER;CN="ShenDo Shiatsu West":MAILTO:shendo-west@shendo.de
GEO:50.9784420552;7.0882401675
X-APPLE-STRUCTURED-LOCATION;VALUE=URI;X-ADDRESS=Köln-Dellbrück Im Eichenforst 39 Köln-Dellbrück 51069 Deutschland;X-APPLE-RADIUS=500;X-TITLE=Im Eichenforst 39:geo:7.0882401675,50.9784420552
END:VEVENT
END:VCALENDAR